Workbook

Sheet Presupuesto
A1: Partida | B1: Proveedor | C1: Presupuestado | D1: Señal pagada | E1: Pendiente | F1: Fecha de pago | G1: Forma de pago | H1: Notas | I1: Aviso
A2: Menú | E2: =C2-D2 -> 0 | I2: =IF(AND(F2<>"",F2-TODAY()<=15,E2>0),"Pagar ya","")
A3: Barra libre | E3: =C3-D3 -> 0 | I3: =IF(AND(F3<>"",F3-TODAY()<=15,E3>0),"Pagar ya","")
A4: Recena | E4: =C4-D4 -> 0 | I4: =IF(AND(F4<>"",F4-TODAY()<=15,E4>0),"Pagar ya","")
A5: Alquiler del espacio | E5: =C5-D5 -> 0 | I5: =IF(AND(F5<>"",F5-TODAY()<=15,E5>0),"Pagar ya","")
E6: =C6-D6 -> 0 | I6: =IF(AND(F6<>"",F6-TODAY()<=15,E6>0),"Pagar ya","")
E7: =C7-D7 -> 0 | I7: =IF(AND(F7<>"",F7-TODAY()<=15,E7>0),"Pagar ya","")
E8: =C8-D8 -> 0 | I8: =IF(AND(F8<>"",F8-TODAY()<=15,E8>0),"Pagar ya","")
A9: Vestido | E9: =C9-D9 -> 0 | I9: =IF(AND(F9<>"",F9-TODAY()<=15,E9>0),"Pagar ya","")
A10: Traje | E10: =C10-D10 -> 0 | I10: =IF(AND(F10<>"",F10-TODAY()<=15,E10>0),"Pagar ya","")
A11: Peluquería | E11: =C11-D11 -> 0 | I11: =IF(AND(F11<>"",F11-TODAY()<=15,E11>0),"Pagar ya","")
A12: Maquillaje | E12: =C12-D12 -> 0 | I12: =IF(AND(F12<>"",F12-TODAY()<=15,E12>0),"Pagar ya","")
A13: Alianzas | E13: =C13-D13 -> 0 | I13: =IF(AND(F13<>"",F13-TODAY()<=15,E13>0),"Pagar ya","")
E14: =C14-D14 -> 0 | I14: =IF(AND(F14<>"",F14-TODAY()<=15,E14>0),"Pagar ya","")
E15: =C15-D15 -> 0 | I15: =IF(AND(F15<>"",F15-TODAY()<=15,E15>0),"Pagar ya","")
A16: Cobertura de fotografía y vídeo | E16: =C16-D16 -> 0 | I16: =IF(AND(F16<>"",F16-TODAY()<=15,E16>0),"Pagar ya","")
A17: Álbum | E17: =C17-D17 -> 0 | I17: =IF(AND(F17<>"",F17-TODAY()<=15,E17>0),"Pagar ya","")
A18: Postboda | E18: =C18-D18 -> 0 | I18: =IF(AND(F18<>"",F18-TODAY()<=15,E18>0),"Pagar ya","")
E19: =C19-D19 -> 0 | I19: =IF(AND(F19<>"",F19-TODAY()<=15,E19>0),"Pagar ya","")
E20: =C20-D20 -> 0 | I20: =IF(AND(F20<>"",F20-TODAY()<=15,E20>0),"Pagar ya","")
E21: =C21-D21 -> 0 | I21: =IF(AND(F21<>"",F21-TODAY()<=15,E21>0),"Pagar ya","")
A22: DJ | E22: =C22-D22 -> 0 | I22: =IF(AND(F22<>"",F22-TODAY()<=15,E22>0),"Pagar ya","")
A23: Grupo | E23: =C23-D23 -> 0 | I23: =IF(AND(F23<>"",F23-TODAY()<=15,E23>0),"Pagar ya","")
A24: Música de la ceremonia | E24: =C24-D24 -> 0 | I24: =IF(AND(F24<>"",F24-TODAY()<=15,E24>0),"Pagar ya","")
A25: Fotomatón | E25: =C25-D25 -> 0 | I25: =IF(AND(F25<>"",F25-TODAY()<=15,E25>0),"Pagar ya","")
E26: =C26-D26 -> 0 | I26: =IF(AND(F26<>"",F26-TODAY()<=15,E26>0),"Pagar ya","")
E27: =C27-D27 -> 0 | I27: =IF(AND(F27<>"",F27-TODAY()<=15,E27>0),"Pagar ya","")
A28: Ramo | E28: =C28-D28 -> 0 | I28: =IF(AND(F28<>"",F28-TODAY()<=15,E28>0),"Pagar ya","")
A29: Centros | E29: =C29-D29 -> 0 | I29: =IF(AND(F29<>"",F29-TODAY()<=15,E29>0),"Pagar ya","")
A30: Flores de la ceremonia | E30: =C30-D30 -> 0 | I30: =IF(AND(F30<>"",F30-TODAY()<=15,E30>0),"Pagar ya","")
A31: Atrezo | E31: =C31-D31 -> 0 | I31: =IF(AND(F31<>"",F31-TODAY()<=15,E31>0),"Pagar ya","")
E32: =C32-D32 -> 0 | I32: =IF(AND(F32<>"",F32-TODAY()<=15,E32>0),"Pagar ya","")
E33: =C33-D33 -> 0 | I33: =IF(AND(F33<>"",F33-TODAY()<=15,E33>0),"Pagar ya","")
A34: Invitaciones | E34: =C34-D34 -> 0 | I34: =IF(AND(F34<>"",F34-TODAY()<=15,E34>0),"Pagar ya","")
A35: Detalles | E35: =C35-D35 -> 0 | I35: =IF(AND(F35<>"",F35-TODAY()<=15,E35>0),"Pagar ya","")
A36: Autobús | E36: =C36-D36 -> 0 | I36: =IF(AND(F36<>"",F36-TODAY()<=15,E36>0),"Pagar ya","")
A37: Coche | E37: =C37-D37 -> 0 | I37: =IF(AND(F37<>"",F37-TODAY()<=15,E37>0),"Pagar ya","")
A38: Tasa municipal | E38: =C38-D38 -> 0 | I38: =IF(AND(F38<>"",F38-TODAY()<=15,E38>0),"Pagar ya","")
E39: =C39-D39 -> 0 | I39: =IF(AND(F39<>"",F39-TODAY()<=15,E39>0),"Pagar ya","")
E40: =C40-D40 -> 0 | I40: =IF(AND(F40<>"",F40-TODAY()<=15,E40>0),"Pagar ya","")
...

Sheet Reparto
A1: Cómo repartir el total: seis bloques con su porcentaje
A2: Presupuesto total | B2: =IF(Presupuesto!C45="","",Presupuesto!C45)
A4: Bloque | B4: Qué mete dentro | C4: % de referencia mínimo | D4: % de referencia máximo | E4: Importe orientativo mínimo | F4: Importe orientativo máximo | G4: Subtotal | H4: Peso
A5: Banquete y lugar | B5: Menú, barra libre, recena, alquiler del espacio | C5: 0.55 | D5: 0.6 | E5: =IF($B$2="","",$B$2*C5) | F5: =IF($B$2="","",$B$2*D5) | G5: =SUM(Presupuesto!C2:C7) -> 0 | H5: =IF(Presupuesto!$C$41=0,"",G5/Presupuesto!$C$41)
A6: Imagen de los novios | B6: Vestido, traje, peluquería, maquillaje, alianzas | C6: 0.15 | D6: 0.17 | E6: =IF($B$2="","",$B$2*C6) | F6: =IF($B$2="","",$B$2*D6) | G6: =SUM(Presupuesto!C9:C14) -> 0 | H6: =IF(Presupuesto!$C$41=0,"",G6/Presupuesto!$C$41)
A7: Fotografía y vídeo | B7: Cobertura, álbum, postboda | C7: 0.1 | D7: 0.12 | E7: =IF($B$2="","",$B$2*C7) | F7: =IF($B$2="","",$B$2*D7) | G7: =SUM(Presupuesto!C16:C20) -> 0 | H7: =IF(Presupuesto!$C$41=0,"",G7/Presupuesto!$C$41)
A8: Música y animación | B8: DJ, grupo, ceremonia, fotomatón | C8: 0.04 | D8: 0.05 | E8: =IF($B$2="","",$B$2*C8) | F8: =IF($B$2="","",$B$2*D8) | G8: =SUM(Presupuesto!C22:C26) -> 0 | H8: =IF(Presupuesto!$C$41=0,"",G8/Presupuesto!$C$41)
A9: Flores y decoración | B9: Ramo, centros, ceremonia, atrezo | C9: 0.04 | D9: 0.04 | E9: =IF($B$2="","",$B$2*C9) | F9: =IF($B$2="","",$B$2*D9) | G9: =SUM(Presupuesto!C28:C32) -> 0 | H9: =IF(Presupuesto!$C$41=0,"",G9/Presupuesto!$C$41)
A10: Papelería, detalles, transporte y tasas | B10: Invitaciones, detalles, autobús, coche, tasa municipal | C10: 0.05 | D10: 0.06 | E10: =IF($B$2="","",$B$2*C10) | F10: =IF($B$2="","",$B$2*D10) | G10: =SUM(Presupuesto!C34:C40) -> 0 | H10: =IF(Presupuesto!$C$41=0,"",G10/Presupuesto!$C$41)
A12: Fuente: https://organizatuboda.blog/plantilla-presupuesto-boda/
